BEGIN:VCALENDAR
VERSION:2.0
PRODID:-//wp-events-plugin.com//7.2.3.1//EN
BEGIN:VEVENT
UID:122@zaansenatuurdag.nl
DTSTART;TZID=Europe/Amsterdam:20260328T193000
DTEND;TZID=Europe/Amsterdam:20260328T220000
DTSTAMP:20260305T210756Z
URL:https://zaansenatuurdag.nl/agenda/avondvaartocht-in-de-kalverpolder-3/
SUMMARY:Avondvaartocht in de Kalverpolder
DESCRIPTION:Op 28 maart en 24 april 2026 organiseert het Zaans Museum in sa
 menwerking met Stichting Kalverpolder een bijzondere avondboottocht door d
 e Kalverpolder\, een eeuwenoud cultuurlandschap. Ontdek het leven in de po
 lder tijdens de schemering en de eerste uren van de nacht.\n\nDe vaartocht
 en starten om 19.30\, 20.00\, 20.30 en 21.00 uur en duren een uur.\n\nVana
 f de opstapplaats naast het museum vaar je samen met een gids en schipper 
 in het donker de polder in. Onderweg ontdek je het historische karakter va
 n het gebied: de middeleeuwse sloten\, de 17e-eeuwse molens en het landsch
 ap dat grotendeels onveranderd is gebleven. Zonder moderne verlichting\, s
 lechts met olielampen\, ervaar je hoe bijzonder en mooi de avond kan zijn.
  Niet alleen overdag\, maar ook ’s nachts bruist de polder van leven.\n\
 nTickets zijn verkrijgbaar op de site van het Zaans Museum.\ngebruik deze 
 link:\nhttps://zaansmuseum.nl/zien-doen/avondboottocht-door-de-kalverpolde
 r/\n\n
ATTACH;FMTTYPE=image/jpeg:https://zaansenatuurdag.nl/wp-content/uploads/20
 26/03/IMG-20250529-WA0005.jpg
LOCATION:De Kalverpolder\, Kalverringdijk 32A\, Zaandam\, Noord Holland\, 1
 509 BT\, Nederland
X-APPLE-STRUCTURED-LOCATION;VALUE=URI;X-ADDRESS=Kalverringdijk 32A\, Zaanda
 m\, Noord Holland\, 1509 BT\, Nederland;X-APPLE-RADIUS=100;X-TITLE=De Kalv
 erpolder:geo:0,0
END:VEVENT
BEGIN:VTIMEZONE
TZID:Europe/Amsterdam
X-LIC-LOCATION:Europe/Amsterdam
BEGIN:STANDARD
DTSTART:20251026T020000
TZOFFSETFROM:+0200
TZOFFSETTO:+0100
TZNAME:CET
END:STANDARD
END:VTIMEZONE
END:VCALENDAR